BEGIN:VCALENDAR
VERSION:2.0
PRODID:-//orienteering.lu//NONSGML kigkonsult.se iCalcreator 2.10.5//
METHOD:PUBLISH
X-WR-CALDESC:<p>More information to be provided on SudOLux website: http://
 sudolux.be/index.php/activites/#mars</p>
X-WR-TIMEZONE:Europe/Luxembourg
BEGIN:VEVENT
UID:20180701T085412CEST-63586tmLCD@orienteering.lu
DTSTAMP:20180701T060712Z
CREATED:20170219T101232Z
DESCRIPTION:More information to be provided on SudOLux website: http://sudo
 lux.be/index.php/activites/#mars
DTSTART:20170225T140000
DTEND:20170225T180000
LAST-MODIFIED:20170219T101429Z
LOCATION:Aubange\, Arlon\, Luxembourg\, Wallonie\, 6790\;6791\;6792\, Belgi
 que (49.568867\, 5.850391\, 13)
SUMMARY:SudOLux training in Athus
URL:https://orienteering.lu/en/calendar/events/sudolux-training-in-athus/
END:VEVENT
END:VCALENDAR
