BEGIN:VCALENDAR
VERSION:2.0
PRODID:-//orienteering.lu//NONSGML kigkonsult.se iCalcreator 2.10.5//
METHOD:PUBLISH
X-WR-CALDESC:
X-WR-TIMEZONE:Europe/Luxembourg
BEGIN:VEVENT
UID:20180701T085248CEST-82160mTut2@orienteering.lu
DTSTAMP:20180701T060748Z
CREATED:20170224T092833Z
DESCRIPTION:
DTSTART:20170326T100000
DTEND:20170326T120000
LAST-MODIFIED:20170224T093258Z
LOCATION:Relais Verlaine\, 25\, Rue de la Gendarmerie\, Viroinval\, Philipp
 eville\, Namur\, Wallonia\, 5670\, Belgium (50.086971\, 4.641607\, 8)
SUMMARY:HOCup 2017 - régionale FRSO
URL:https://orienteering.lu/en/calendar/events/hocup-2017-regionale-frso/
END:VEVENT
END:VCALENDAR
