BEGIN:VCALENDAR
VERSION:2.0
PRODID:-//orienteering.lu//NONSGML kigkonsult.se iCalcreator 2.10.5//
METHOD:PUBLISH
X-WR-CALDESC:
X-WR-TIMEZONE:Europe/Luxembourg
BEGIN:VEVENT
UID:20180701T085301CEST-5970OBXIu4@orienteering.lu
DTSTAMP:20180701T060701Z
CREATED:20170224T094442Z
DESCRIPTION:
DTSTART:20170325T130000
DTEND:20170325T170000
LAST-MODIFIED:20170224T094755Z
LOCATION:Relais Verlaine\, 25\, Rue de la Gendarmerie\, Viroinval\, Philipp
 eville\, Namur\, Wallonia\, 5670\, Belgium (50.086971\, 4.641607\, 7)
SUMMARY:HOCup 2017 - entraînements middle et sprint
URL:https://orienteering.lu/en/calendar/events/hocup-2017-entrainements-mid
 dle-et-sprint/
END:VEVENT
END:VCALENDAR
