BEGIN:VCALENDAR
VERSION:2.0
PRODID:-//orienteering.lu//NONSGML kigkonsult.se iCalcreator 2.10.5//
METHOD:PUBLISH
X-WR-CALDESC:<p>Several LuxOC runners are interested. If you want to join t
 he team\, contact Jan !</p>\n\n<p>See also: https://www.frso.be/course.php
 ?id=1924</p>
X-WR-TIMEZONE:Europe/Luxembourg
BEGIN:VEVENT
UID:20180701T085211CEST-1578Znuz06@orienteering.lu
DTSTAMP:20180701T060711Z
CREATED:20170227T222114Z
DESCRIPTION:Several LuxOC runners are interested. If you want to join the t
 eam\, contact Jan !\n\nSee also: https://www.frso.be/course.php?id=1924
DTSTART;VALUE=DATE:20170423
LAST-MODIFIED:20170306T210220Z
LOCATION:Rue du Héraut\, Herbeumont\, Neufchâteau\, Luxembourg\, Wallonie\,
  6887\, Belgique (49.795616\, 5.381155\, 14)
SUMMARY:Relay - Belgium Club Championship 2017
URL:https://orienteering.lu/en/calendar/events/relay-belgium-club-champions
 hip-2017/
END:VEVENT
END:VCALENDAR
