BEGIN:VCALENDAR
VERSION:2.0
PRODID:-//orienteering.lu//NONSGML kigkonsult.se iCalcreator 2.10.5//
METHOD:PUBLISH
X-WR-CALDESC:
X-WR-TIMEZONE:Europe/Luxembourg
BEGIN:VEVENT
UID:20180701T085157CEST-7066ZIl6n0@orienteering.lu
DTSTAMP:20180701T060757Z
CREATED:20170306T204933Z
DESCRIPTION:
DTSTART;VALUE=DATE:20170506
LAST-MODIFIED:20170306T205224Z
LOCATION:Rue de la Piscine\, Aubange\, Arlon\, Luxembourg\, Wallonie\, 6790
 \;6791\;6792\, Belgique (49.565975\, 5.844212\, 16)
SUMMARY:Samedi FRSO - Athus
URL:https://orienteering.lu/en/calendar/events/samedi-frso-athus/
END:VEVENT
END:VCALENDAR
