BEGIN:VCALENDAR
VERSION:2.0
PRODID:-//orienteering.lu//NONSGML kigkonsult.se iCalcreator 2.10.5//
METHOD:PUBLISH
X-WR-CALDESC:<p>From 16:00.</p>\n\n<p>Score race. 30 control points in 6 ho
 urs maximum. Head lamp needed.</p>\n\n<p>Possibility to combine with bike 
 orienteering on the 24th.</p>
X-WR-TIMEZONE:Europe/Luxembourg
BEGIN:VEVENT
UID:20180701T084651CEST-84315PtoVU@orienteering.lu
DTSTAMP:20180701T060751Z
CREATED:20170306T215332Z
DESCRIPTION:From 16:00.\n\nScore race. 30 control points in 6 hours maximum
 . Head lamp needed.\n\nPossibility to combine with bike orienteering on th
 e 24th.
DTSTART;VALUE=DATE:20170923
LAST-MODIFIED:20170821T225921Z
LOCATION:Rue de la Ducasse\, Léglise\, Neufchâteau\, Luxembourg\, Wallonie\
 , 6860\, Belgique (49.794495\, 5.646908\, 14)
SUMMARY:Orienteering Raid - Vlessart
URL:https://orienteering.lu/en/calendar/events/sudolux-event-vlessart/
END:VEVENT
END:VCALENDAR
