BEGIN:VCALENDAR
VERSION:2.0
PRODID:-//orienteering.lu//NONSGML kigkonsult.se iCalcreator 2.10.5//
METHOD:PUBLISH
X-WR-CALDESC:<p>To be confirmed. More info soon. May happen in the morning.
  See SudOLux website: http://sudolux.be/</p>
X-WR-TIMEZONE:Europe/Luxembourg
BEGIN:VEVENT
UID:20180701T084411CEST-7319gENVrm@orienteering.lu
DTSTAMP:20180701T060711Z
CREATED:20170306T215529Z
DESCRIPTION:To be confirmed. More info soon. May happen in the morning. See
  SudOLux website: http://sudolux.be/
DTSTART;VALUE=DATE:20171125
LAST-MODIFIED:20170821T231057Z
LOCATION:Chiny\, Virton\, Luxembourg\, Wallonie\, 6810\;6811\;6812\;6813\, 
 Belgique (49.738129\, 5.340042\, 12)
SUMMARY:SudOLux championship 2017
URL:https://orienteering.lu/en/calendar/events/sudolux-championship-2017/
END:VEVENT
END:VCALENDAR
