BEGIN:VCALENDAR
VERSION:2.0
PRODID:-//orienteering.lu//NONSGML kigkonsult.se iCalcreator 2.10.5//
METHOD:PUBLISH
X-WR-CALDESC:
X-WR-TIMEZONE:Europe/Luxembourg
BEGIN:VEVENT
UID:20180701T085217CEST-0014WmMEfZ@orienteering.lu
DTSTAMP:20180701T060716Z
CREATED:20170306T215821Z
DESCRIPTION:
DTSTART;VALUE=DATE:20170422
LAST-MODIFIED:20170306T220438Z
LOCATION:Lavaux Gare\, Léglise\, Neufchâteau\, Luxembourg\, Wallonie\, 6860
 \, Belgique (49.801987\, 5.463638\, 13)
SUMMARY:Middle distance Assenois
URL:https://orienteering.lu/en/calendar/events/middle-distance-assenois/
END:VEVENT
END:VCALENDAR
