BEGIN:VCALENDAR
VERSION:2.0
PRODID:-//orienteering.lu//NONSGML kigkonsult.se iCalcreator 2.10.5//
METHOD:PUBLISH
X-WR-CALDESC:<p>For SudOLux members: Orienteering training + Meeting + Barb
 ecue.</p>
X-WR-TIMEZONE:Europe/Luxembourg
BEGIN:VEVENT
UID:20180701T084903CEST-5286mP0njU@orienteering.lu
DTSTAMP:20180701T060703Z
CREATED:20170306T220517Z
DESCRIPTION:For SudOLux members: Orienteering training + Meeting + Barbecue
 .
DTSTART;VALUE=DATE:20170624
LAST-MODIFIED:20170618T205000Z
LOCATION:Rue Saint-Orban\, Léglise\, Neufchâteau\, Luxembourg\, Wallonie\, 
 6860\, Belgique (49.789909\, 5.628262\, 12)
SUMMARY:Réveillon d’Eté SudOLux 2017
URL:https://orienteering.lu/en/calendar/events/reveillon-dete-sudolux-2017/
END:VEVENT
END:VCALENDAR
