BEGIN:VCALENDAR
VERSION:2.0
PRODID:-//orienteering.lu//NONSGML kigkonsult.se iCalcreator 2.10.5//
METHOD:PUBLISH
X-WR-CALDESC:<p>SudOLux training\, 10:00</p>
X-WR-TIMEZONE:Europe/Luxembourg
BEGIN:VEVENT
UID:20180701T085308CEST-0975bUmNud@orienteering.lu
DTSTAMP:20180701T060708Z
CREATED:20170306T221334Z
DESCRIPTION:SudOLux training\, 10:00
DTSTART:20170325T100000
LAST-MODIFIED:20170306T221517Z
LOCATION:Rue de la Piscine\, Aubange\, Arlon\, Luxembourg\, Wallonie\, 6790
 \;6791\;6792\, Belgique (49.566036\, 5.843686\, 16)
SUMMARY:Athus - Entrainement SudOLux
URL:https://orienteering.lu/en/calendar/events/athus-entrainement-sudolux/
END:VEVENT
END:VCALENDAR
