BEGIN:VCALENDAR
VERSION:2.0
PRODID:-//orienteering.lu//NONSGML kigkonsult.se iCalcreator 2.10.5//
METHOD:PUBLISH
X-WR-CALDESC:<p>And more info here: <a href='http://www.ski-club-barr.fr/co
 urse-dorientation-samedi-17-juin-2017/'>http://www.ski-club-barr.fr/course
 -dorientation-samedi-17-juin-2017/</a></p>
X-WR-TIMEZONE:Europe/Luxembourg
BEGIN:VEVENT
UID:20180701T084945CEST-4846vTkjwu@orienteering.lu
DTSTAMP:20180701T060745Z
CREATED:20170318T095632Z
DESCRIPTION:And more info here: http://www.ski-club-barr.fr/course-dorienta
 tion-samedi-17-juin-2017/
DTSTART;VALUE=DATE:20170617
DTEND;VALUE=DATE:20170617
LAST-MODIFIED:20170528T210612Z
LOCATION:Champ du Feu\, Bellefosse\, Molsheim\, Bas-Rhin\, Grand-Est\, 6713
 0\, France (48.394379\, 7.269047\, 14)
SUMMARY:Régionale - Champ du Feu
URL:https://orienteering.lu/en/calendar/events/regionale-champ-du-feu/
END:VEVENT
END:VCALENDAR
