BEGIN:VCALENDAR
VERSION:2.0
PRODID:-//orienteering.lu//NONSGML kigkonsult.se iCalcreator 2.10.5//
METHOD:PUBLISH
X-WR-CALDESC:<p>This is a small training for orienteering beginners and exp
 erienced on our brand new map. The meeting point is at the playgroud in th
 e middle of the park\, next to the zipline. See the map below ! You can jo
 in from 14:00 to 17:00.</p>\n\n<p>Two kinds of maps will be proposed:</p>
 \n<ul><li>'Squirrel' maps\, for beginners and walkers.</li>\n	<li>'Rabbit'
  maps\, for more experienced participants.</li>\n</ul><p>Please let us kno
 w (info@orienteering.lu) <strong>before Friday 17:00</strong> if you plan 
 to come and participate as a squirrel or a rabbit\, so that we can anticip
 ate on the number of maps to prepare.</p>\n\n<h5>Disclaimer: All participa
 nts take part in events entirely at their own risk. LuxOC shall not be lia
 ble for any accidents\, injury\, loss or damage sustained as a consequence
  of participation in any of its events. Any competitor who has any doubts 
 about their fitness or ability to take part in any event\, should consult 
 a health professional before considering participation.</h5>
X-WR-TIMEZONE:Europe/Luxembourg
BEGIN:VEVENT
UID:20180701T085236CEST-1393Da39v3@orienteering.lu
DTSTAMP:20180701T060736Z
CREATED:20170326T215453Z
DESCRIPTION:This is a small training for orienteering beginners and experie
 nced on our brand new map. The meeting point is at the playgroud in the mi
 ddle of the park\, next to the zipline. See the map below ! You can join f
 rom 14:00 to 17:00.\n\nTwo kinds of maps will be proposed:\n\n'Squirrel' m
 aps\, for beginners and walkers.\n	'Rabbit' maps\, for more experienced pa
 rticipants.\nPlease let us know (info@orienteering.lu) before Friday 17:00
  if you plan to come and participate as a squirrel or a rabbit\, so that w
 e can anticipate on the number of maps to prepare.\n\nDisclaimer: All part
 icipants take part in events entirely at their own risk. LuxOC shall not b
 e liable for any accidents\, injury\, loss or damage sustained as a conseq
 uence of participation in any of its events. Any competitor who has any do
 ubts about their fitness or ability to take part in any event\, should con
 sult a health professional before considering participation.
DTSTART:20170401T140000
DTEND:20170401T180000
LAST-MODIFIED:20170329T214852Z
LOCATION:Kopf\, Avenue John F. Kennedy\, Parc Central\, Kirchberg\, Luxembo
 urg\, Canton Luxembourg\, 1855\, Luxembourg (49.625328\, 6.155927\, 17)
SUMMARY:Orienteering training\, Central park Coque-Kirchberg
URL:https://orienteering.lu/en/calendar/events/training-coque-kirchberg/
END:VEVENT
END:VCALENDAR
