BEGIN:VCALENDAR
VERSION:2.0
PRODID:-//orienteering.lu//NONSGML kigkonsult.se iCalcreator 2.10.5//
METHOD:PUBLISH
X-WR-CALDESC:<p>There will be two not very long courses for kids (total beg
 inners are welcome as well)\, plus a score event with time measurement for
  those with more experience and a wish to compete.</p>\n\n<p>Please see th
 e attached jpg to find out how to get there. <strong>IMPORTANT</strong>: f
 rom the parking (marked with a blue circle) please follow the marked route
  to the start (red triangle)\, and do NOT walk through the park\, because 
 then you will see most of the flags in advance and the fun will be lost. W
 e will put red tapes along the route to the start\, so it will be very eas
 y to find.<br /><br />\nIf you're planning to come\, please write a mail t
 o olukoczky(at)gmail(dot)com until Friday the latest and indicate how many
  of you are running/walking so that we know how many maps to prepare.</p>
 \n<p>See you there\,</p>\n\n<p>Gabi and Orsi</p>
X-WR-TIMEZONE:Europe/Luxembourg
BEGIN:VEVENT
UID:20180701T085136CEST-14437mMI0U@orienteering.lu
DTSTAMP:20180701T060736Z
CREATED:20170327T151843Z
DESCRIPTION:There will be two not very long courses for kids (total beginne
 rs are welcome as well)\, plus a score event with time measurement for tho
 se with more experience and a wish to compete.\n\nPlease see the attached 
 jpg to find out how to get there. IMPORTANT: from the parking (marked with
  a blue circle) please follow the marked route to the start (red triangle)
 \, and do NOT walk through the park\, because then you will see most of th
 e flags in advance and the fun will be lost. We will put red tapes along t
 he route to the start\, so it will be very easy to find.\n\n\nIf you're pl
 anning to come\, please write a mail to olukoczky(at)gmail(dot)com until F
 riday the latest and indicate how many of you are running/walking so that 
 we know how many maps to prepare.\n\nSee you there\,\n\nGabi and Orsi
DTSTART:20170506T150000
DTEND:20170506T180000
LAST-MODIFIED:20170504T094239Z
LOCATION:Rue Jean Majerus\, Mersch\, Canton Mersch\, 7555\, Luxembourg (49.
 744091\, 6.105105\, 16)
SUMMARY:LuxOC training
URL:https://orienteering.lu/en/calendar/events/luxoc-training/
END:VEVENT
END:VCALENDAR
