BEGIN:VCALENDAR
VERSION:2.0
PRODID:-//orienteering.lu//NONSGML kigkonsult.se iCalcreator 2.10.5//
METHOD:PUBLISH
X-WR-CALDESC:<p>Meeting place: under the oak tree at the end of a paved roa
 d north-west from the N11/N14 junction.</p>\n\n<p>There will be two longer
  and rather difficult courses\, one longer but easier\, and one easier and
  shorter. If you thought you're getting to know the forest and you will fl
 y thru with no hesitation\, come\, we'll prove you're wrong.</p>\n\n<p>Tra
 ining proposed by Ondra and Míša.</p>
X-WR-TIMEZONE:Europe/Luxembourg
BEGIN:VEVENT
UID:20180701T085051CEST-8965nv5nAC@orienteering.lu
DTSTAMP:20180701T060751Z
CREATED:20170327T152039Z
DESCRIPTION:Meeting place: under the oak tree at the end of a paved road no
 rth-west from the N11/N14 junction.\n\nThere will be two longer and rather
  difficult courses\, one longer but easier\, and one easier and shorter. I
 f you thought you're getting to know the forest and you will fly thru with
  no hesitation\, come\, we'll prove you're wrong.\n\nTraining proposed by 
 Ondra and Míša.
DTSTART:20170521T150000
DTEND:20170521T170000
LAST-MODIFIED:20170529T234235Z
LOCATION:Rue du Marchenwald\, Junglinster\, Canton Grevenmacher\, 6240\, Lu
 xembourg (49.744286\, 6.281605\, 15)
SUMMARY:LuxOC training
URL:https://orienteering.lu/en/calendar/events/luxoc-training-spring-2017-m
 archenwald/
END:VEVENT
END:VCALENDAR
