BEGIN:VCALENDAR
VERSION:2.0
PRODID:-//orienteering.lu//NONSGML kigkonsult.se iCalcreator 2.10.5//
METHOD:PUBLISH
X-WR-CALDESC:<p>Welcome to our next training in Good Old Bambësch! See you 
 on Sunday\, 28th May at 10:30 (don't worry if you're late) in the wooden c
 astle on the playground.</p>\n\n<p>What we offer:</p>\n\n<p>- short and ea
 sy courses to kids running/walking with their parents</p>\n\n<p>- a bit mo
 re challenging but not difficult exercise for those children who want to g
 o on their own</p>\n\n<p>- an exciting relief training for adults and very
  experienced children.</p>\n\n<p>Hoping that the weather will be nice we'r
 e planning to organize a picnic lunch afterwards\, please bring something 
 small to share with the others.</p>\n\n<p>If you're planning to come\, ple
 ase fill in <a href='https://docs.google.com/document/d/1Vm40Ly42Inr5tw1uf
 UD5VWk7g_R7JXKqifmwBcwV4wc/edit?usp=sharing'>this</a> table as soon as pos
 sible so that we know how many maps to print. And don't hesitate to share 
 the news!</p>\n\n<p>Looking forward to seeing you there\,</p>\n\n<p>Gabi &
 amp\; Orsi</p>
X-WR-TIMEZONE:Europe/Luxembourg
BEGIN:VEVENT
UID:20180701T085037CEST-2480MEXJpt@orienteering.lu
DTSTAMP:20180701T060737Z
CREATED:20170327T152214Z
DESCRIPTION:Welcome to our next training in Good Old Bambësch! See you on S
 unday\, 28th May at 10:30 (don't worry if you're late) in the wooden castl
 e on the playground.\n\nWhat we offer:\n\n- short and easy courses to kids
  running/walking with their parents\n\n- a bit more challenging but not di
 fficult exercise for those children who want to go on their own\n\n- an ex
 citing relief training for adults and very experienced children.\n\nHoping
  that the weather will be nice we're planning to organize a picnic lunch a
 fterwards\, please bring something small to share with the others.\n\nIf y
 ou're planning to come\, please fill in this table as soon as possible so 
 that we know how many maps to print. And don't hesitate to share the news!
 \nLooking forward to seeing you there\,\n\nGabi & Orsi
DTSTART:20170528T103000
DTEND:20170528T123000
LAST-MODIFIED:20170522T211255Z
LOCATION:Canton Luxembourg\, Luxemburg (49.632805\, 6.114546\, 15)
SUMMARY:LuxOC training in Bambësch
URL:https://orienteering.lu/en/calendar/events/luxoc-training3/
END:VEVENT
END:VCALENDAR
