BEGIN:VCALENDAR
VERSION:2.0
PRODID:-//orienteering.lu//NONSGML kigkonsult.se iCalcreator 2.10.5//
METHOD:PUBLISH
X-WR-CALDESC:<p>Inauguration of the map <em>Parc Tony Neumann</em> on Limpe
 rtsberg/Rollingergrund on Sunday\, 18.6. at 3:00 pm!</p>\n\n<p>Located on 
 the south slope of the Limpertsberg down to the Rollingergrund\, the new m
 ap offers steep slopes with a mixture of parc and small paths with a medit
 erranean touch.</p>\n\n<p>I propose several easy and short courses for chi
 ldren and other beginners as well as a long course for adults who want to 
 run more.</p>\n\n<p><strong>Meeting point:</strong> playground at the entr
 ance of the parc Tony Neumann\, av. de la Faiencerie / Rue L. Lacroix.<br 
 /><strong>Starts:</strong> between 3:00 and 5:00 pm.<br /><strong>Registra
 tion: </strong>Please register until Saturday evening (17.6.) via <a href=
 'mailto:elisabet.wirtz@lemmel.at' target='_blank' rel='noreferrer noopener
 '>elisabet.wirtz@lemmel.at</a></p>
X-WR-TIMEZONE:Europe/Luxembourg
BEGIN:VEVENT
UID:20180701T084928CEST-5989vUUwcs@orienteering.lu
DTSTAMP:20180701T060728Z
CREATED:20170327T152343Z
DESCRIPTION:Inauguration of the map Parc Tony Neumann on Limpertsberg/Rolli
 ngergrund on Sunday\, 18.6. at 3:00 pm!\n\nLocated on the south slope of t
 he Limpertsberg down to the Rollingergrund\, the new map offers steep slop
 es with a mixture of parc and small paths with a mediterranean touch.\n\nI
  propose several easy and short courses for children and other beginners a
 s well as a long course for adults who want to run more.\n\nMeeting point:
  playground at the entrance of the parc Tony Neumann\, av. de la Faienceri
 e / Rue L. Lacroix.\nStarts: between 3:00 and 5:00 pm.\nRegistration: Plea
 se register until Saturday evening (17.6.) via elisabet.wirtz@lemmel.at
DTSTART:20170618T150000
DTEND:20170618T170000
LAST-MODIFIED:20170613T085847Z
LOCATION:Avenue de la Faïencerie\, Limpertsberg\, Luxembourg\, Canton Luxem
 bourg\, 1510\, 1511\, Luxembourg (49.621582\, 6.112025\, 16)
SUMMARY:LuxOC training: Tony Neuman park\, Limpertsberg
URL:https://orienteering.lu/en/calendar/events/luxoc-training4/
END:VEVENT
END:VCALENDAR
