BEGIN:VCALENDAR
VERSION:2.0
PRODID:-//orienteering.lu//NONSGML kigkonsult.se iCalcreator 2.10.5//
METHOD:PUBLISH
X-WR-CALDESC:
X-WR-TIMEZONE:Europe/Luxembourg
BEGIN:VEVENT
UID:20180701T084526CEST-1068PxFDWI@orienteering.lu
DTSTAMP:20180701T060726Z
CREATED:20170327T152903Z
DESCRIPTION:
DTSTART;VALUE=DATE:20171105
DTEND;VALUE=DATE:20171105
LAST-MODIFIED:20171011T223355Z
LOCATION:Rue Vauban\, Pfaffenthal\, Luxembourg\, Canton Luxembourg\, 2525\,
  Luxembourg (49.614868\, 6.133912\, 16)
SUMMARY:Luxembourg city race 2017
URL:https://orienteering.lu/en/calendar/events/luxembourg-city-race-2017/
END:VEVENT
END:VCALENDAR
