BEGIN:VCALENDAR
VERSION:2.0
PRODID:-//orienteering.lu//NONSGML kigkonsult.se iCalcreator 2.10.5//
METHOD:PUBLISH
X-WR-CALDESC:<p>Forêt d’Anlier\, Vlessart\, SudOLux training\, from 14:00.<
 /p>\n\n<p>Start: “Anim’Vlessart”\, Rue de la Ducasse</p>\n\n<p>Pour rappel
 \, un entrainement Sud O Lux a lieu à Vlessart ce<strong> samedi 13 mai 20
 17 à 14.00 \, au départ de la salle “Anim’Vlessart”</strong></p>\n\n<p>Pou
 r permettre de préparer les cartes en conséquence\, merci de vous inscrire
  chez Iwan VIS : iwanvis66@gmail.com</p>\n\n<p>Si vous vous décidez en der
 nière minute\, pas de souci : il sera toujours possible de participer !</p
 >\n\n<ul><li>Gratuit pour les membres du Sud O Lux</li>\n	<li>Affiliés aut
 res clubs ABSO ou IOF : 2.-€</li>\n	<li>Non affiliés : 3.-€</li>\n</ul><p>
 Bienvenue à toutes et tous</p>
X-WR-TIMEZONE:Europe/Luxembourg
BEGIN:VEVENT
UID:20180701T085127CEST-0895Mxv8dG@orienteering.lu
DTSTAMP:20180701T060727Z
CREATED:20170327T153356Z
DESCRIPTION:Forêt d’Anlier\, Vlessart\, SudOLux training\, from 14:00.\n\nS
 tart: “Anim’Vlessart”\, Rue de la Ducasse\n\nPour rappel\, un entrainement
  Sud O Lux a lieu à Vlessart ce samedi 13 mai 2017 à 14.00 \, au départ de
  la salle “Anim’Vlessart”\n\nPour permettre de préparer les cartes en cons
 équence\, merci de vous inscrire chez Iwan VIS : iwanvis66@gmail.com\n\nSi
  vous vous décidez en dernière minute\, pas de souci : il sera toujours po
 ssible de participer !\n\nGratuit pour les membres du Sud O Lux\n	Affiliés
  autres clubs ABSO ou IOF : 2.-€\n	Non affiliés : 3.-€\nBienvenue à toutes
  et tous
DTSTART:20170513T140000
LAST-MODIFIED:20170510T235209Z
LOCATION:Rue de la Ducasse\, Léglise\, Neufchâteau\, Luxembourg\, Wallonia\
 , 6860\, Belgium (49.794403\, 5.646833\, 11)
SUMMARY:SudOLux training\, forêt d'Anlier
URL:https://orienteering.lu/en/calendar/events/sudolux-training-foret-danli
 er/
END:VEVENT
END:VCALENDAR
