BEGIN:VCALENDAR
VERSION:2.0
PRODID:-//orienteering.lu//NONSGML kigkonsult.se iCalcreator 2.10.5//
METHOD:PUBLISH
X-WR-CALDESC:<p>See: http://www.frso.be/course.php?id=2012</p>
X-WR-TIMEZONE:Europe/Luxembourg
BEGIN:VEVENT
UID:20180701T085110CEST-6512IAFkdV@orienteering.lu
DTSTAMP:20180701T060710Z
CREATED:20170327T153719Z
DESCRIPTION:See: http://www.frso.be/course.php?id=2012
DTSTART;VALUE=DATE:20170520
LAST-MODIFIED:20170515T193329Z
LOCATION:Bertrix\, Neufchâteau\, Luxembourg\, Wallonia\, 6880\, Belgium (49
 .854919\, 5.252495\, 13)
SUMMARY:Samedi FRSO Bertrix - CANCELLED !
URL:https://orienteering.lu/en/calendar/events/samedi-frso-bertrix/
END:VEVENT
END:VCALENDAR
