BEGIN:VCALENDAR
VERSION:2.0
PRODID:-//orienteering.lu//NONSGML kigkonsult.se iCalcreator 2.10.5//
METHOD:PUBLISH
X-WR-CALDESC:<p>See: http://www.frso.be/course.php?id=2013</p>\n\n<p>Locate
 d at Baraque de Fraiture\, Vielsalm</p>
X-WR-TIMEZONE:Europe/Luxembourg
BEGIN:VEVENT
UID:20180701T085014CEST-801607UvlB@orienteering.lu
DTSTAMP:20180701T060714Z
CREATED:20170327T153925Z
DESCRIPTION:See: http://www.frso.be/course.php?id=2013\n\nLocated at Baraqu
 e de Fraiture\, Vielsalm
DTSTART;VALUE=DATE:20170610
LAST-MODIFIED:20170327T154338Z
LOCATION:N30\, Vielsalm\, Bastogne\, Luxembourg\, Wallonia\, 6690\, Belgium
  (50.255478\, 5.734713\, 15)
SUMMARY:Baraque Fraiture
URL:https://orienteering.lu/en/calendar/events/baraque-fraiture/
END:VEVENT
END:VCALENDAR
