BEGIN:VCALENDAR
VERSION:2.0
PRODID:-//orienteering.lu//NONSGML kigkonsult.se iCalcreator 2.10.5//
METHOD:PUBLISH
X-WR-CALDESC:<p>See: http://www.frso.be/course.php?id=1930</p>
X-WR-TIMEZONE:Europe/Luxembourg
BEGIN:VEVENT
UID:20180701T085007CEST-4634XvFvMD@orienteering.lu
DTSTAMP:20180701T060707Z
CREATED:20170327T154411Z
DESCRIPTION:See: http://www.frso.be/course.php?id=1930
DTSTART:20170611T090000
LAST-MODIFIED:20170517T233820Z
LOCATION:Saint-Hubert\, Neufchâteau\, Luxembourg\, Wallonia\, 6870\, Belgiu
 m (50.038071\, 5.357895\, 11)
SUMMARY:Saint Hubert Nationale Balise 10
URL:https://orienteering.lu/en/calendar/events/saint-hubert-nationale-balis
 e-10/
END:VEVENT
END:VCALENDAR
