BEGIN:VCALENDAR
VERSION:2.0
PRODID:-//orienteering.lu//NONSGML kigkonsult.se iCalcreator 2.10.5//
METHOD:PUBLISH
X-WR-CALDESC:
X-WR-TIMEZONE:Europe/Luxembourg
BEGIN:VEVENT
UID:20180701T084838CEST-5948GwuiIv@orienteering.lu
DTSTAMP:20180701T060738Z
CREATED:20170327T155111Z
DESCRIPTION:
DTSTART;VALUE=DATE:20170701
DTEND;VALUE=DATE:20170702
LAST-MODIFIED:20170327T155317Z
LOCATION:Fumay\, Charleville-Mézières\, Ardennes\, Great East\, 08170\, Fra
 nce (49.946800\, 4.579926\, 9)
SUMMARY:Transforestière 2017
URL:https://orienteering.lu/en/calendar/events/transforestiere-2017/
END:VEVENT
END:VCALENDAR
