BEGIN:VCALENDAR
VERSION:2.0
PRODID:-//orienteering.lu//NONSGML kigkonsult.se iCalcreator 2.10.5//
METHOD:PUBLISH
X-WR-CALDESC:
X-WR-TIMEZONE:Europe/Luxembourg
BEGIN:VEVENT
UID:20180701T084823CEST-4512UeixzB@orienteering.lu
DTSTAMP:20180701T060723Z
CREATED:20170327T155432Z
DESCRIPTION:
DTSTART;VALUE=DATE:20170701
LAST-MODIFIED:20170327T155620Z
LOCATION:Fumay\, Charleville-Mézières\, Ardennes\, Great East\, 08170\, Fra
 nce (49.959171\, 4.580612\, 11)
SUMMARY:Rogaine ASUB 2017
URL:https://orienteering.lu/en/calendar/events/rogaine-asub-2017/
END:VEVENT
END:VCALENDAR
