BEGIN:VCALENDAR
VERSION:2.0
PRODID:-//orienteering.lu//NONSGML kigkonsult.se iCalcreator 2.10.5//
METHOD:PUBLISH
X-WR-CALDESC:<p><strong>19.00 to 19.45 - Sandweiler</strong> urban area\, b
 ase at <strong>55 am Steffesgaart</strong>. <strong>David and Maggie</stro
 ng> invite you to celebrate <strong>World Orienteering Day! </strong>(<a h
 ref='http://worldorienteeringday.com/'>http://worldorienteeringday.com/</a
 >)<strong> </strong>This will be a street race in Sandweiler - same map as
  was used for the Christmas event\, but different controls\, and maybe a c
 onventional format rather than “score”. And daylight this time.</p>
X-WR-TIMEZONE:Europe/Luxembourg
BEGIN:VEVENT
UID:20180701T085044CEST-4284C5JI7U@orienteering.lu
DTSTAMP:20180701T060744Z
CREATED:20170412T215444Z
DESCRIPTION:19.00 to 19.45 - Sandweiler urban area\, base at 55 am Steffesg
 aart. David and Maggie invite you to celebrate World Orienteering Day! (ht
 tp://worldorienteeringday.com/) This will be a street race in Sandweiler -
  same map as was used for the Christmas event\, but different controls\, a
 nd maybe a conventional format rather than “score”. And daylight this time
 .
DTSTART:20170524T190000
LAST-MODIFIED:20170523T085701Z
LOCATION:6\, Rue de Remich\, Sandweiler\, Canton Luxembourg\, 5250\, Luxemb
 ourg (49.612469\, 6.226110\, 17)
SUMMARY:LuxOC training - World Orienteering Day !
URL:https://orienteering.lu/en/calendar/events/luxoc-training-world-oriente
 ering-day-2017/
END:VEVENT
END:VCALENDAR
