BEGIN:VCALENDAR
VERSION:2.0
PRODID:-//orienteering.lu//NONSGML kigkonsult.se iCalcreator 2.10.5//
METHOD:PUBLISH
X-WR-CALDESC:<p>Dear all\,</p>\n\n<p>When having an isostar drink at the Sp
 ort Bar in Göteborg\, we figured out that we need more trainings to be abl
 e to beat the best in Tiomila (or Jukola) next year.</p>\n\n<p>Let's meet 
 <strong>every Wednesday </strong>until Summer holidays July 15th and have 
 a run together. We will run easy and if needed can do several groups\, dep
 ending on the speed. We might do some running exercises together as well\,
  depending on the mood.</p>\n\n<p>The first meeting is on the Bambësch pla
 yground (next to the wooden castle) on next Wednesday\, <strong>May 17th a
 t 7pm</strong>.</p>\n\n<p>Looking forward\, Míša.</p>
X-WR-TIMEZONE:Europe/Luxembourg
BEGIN:VEVENT
UID:20180701T085118CEST-47656p0g9E@orienteering.lu
DTSTAMP:20180701T060718Z
CREATED:20170511T181148Z
DESCRIPTION:Dear all\,\n\nWhen having an isostar drink at the Sport Bar in 
 Göteborg\, we figured out that we need more trainings to be able to beat t
 he best in Tiomila (or Jukola) next year.\n\nLet's meet every Wednesday un
 til Summer holidays July 15th and have a run together. We will run easy an
 d if needed can do several groups\, depending on the speed. We might do so
 me running exercises together as well\, depending on the mood.\n\nThe firs
 t meeting is on the Bambësch playground (next to the wooden castle) on nex
 t Wednesday\, May 17th at 7pm.\n\nLooking forward\, Míša.
DTSTART:20170517T190000
DTEND:20170517T200000
LAST-MODIFIED:20170511T230202Z
LOCATION:Allée des Présidents\, Mühlenbach\, Muhlenbach\, Luxembourg\, Cant
 on Luxembourg\, 1139\, Luxembourg (49.632805\, 6.114546\, 16)
SUMMARY:Weekly running: Wednesdays at 7pm in Bambësch
URL:https://orienteering.lu/en/calendar/events/weekly-running-wednesdays-at
 -7pm-in-bambesch/
END:VEVENT
END:VCALENDAR
