BEGIN:VCALENDAR
VERSION:2.0
PRODID:-//orienteering.lu//NONSGML kigkonsult.se iCalcreator 2.10.5//
METHOD:PUBLISH
X-WR-CALDESC:
X-WR-TIMEZONE:Europe/Luxembourg
BEGIN:VEVENT
UID:20180701T084806CEST-9113ACfzhU@orienteering.lu
DTSTAMP:20180701T060706Z
CREATED:20170525T221029Z
DESCRIPTION:
DTSTART:20170718T170000
DTEND:20170718T190000
LAST-MODIFIED:20170531T005813Z
LOCATION:Landkreis Mayen-Koblenz\, Rhineland-Palatinate\, Germany (50.43761
 1\, 7.620735\, 9)
SUMMARY:11. Orienteering-Team-Challenge X
URL:https://orienteering.lu/en/calendar/events/11-challengex/
END:VEVENT
END:VCALENDAR
