BEGIN:VCALENDAR
VERSION:2.0
PRODID:-//orienteering.lu//NONSGML kigkonsult.se iCalcreator 2.10.5//
METHOD:PUBLISH
X-WR-CALDESC:<p>Let's meet every Wednesday until Summer holidays July 15th 
 and have a run together. We will run easy and if needed can do several gro
 ups\, depending on the speed. We might do some running exercises together 
 as well\, depending on the mood.</p>\n\n<p>Misa</p>
X-WR-TIMEZONE:Europe/Luxembourg
BEGIN:VEVENT
UID:20180701T084959CEST-6471p4HPSK@orienteering.lu
DTSTAMP:20180701T060759Z
CREATED:20170605T173801Z
DESCRIPTION:Let's meet every Wednesday until Summer holidays July 15th and 
 have a run together. We will run easy and if needed can do several groups\
 , depending on the speed. We might do some running exercises together as w
 ell\, depending on the mood.\n\nMisa
DTSTART:20170614T190000
DTEND:20170614T200000
LAST-MODIFIED:20170612T110509Z
LOCATION:Allée des Présidents\, Mühlenbach\, Muhlenbach\, Luxembourg\, Cant
 on Luxembourg\, 1139\, Luxembourg (49.633301\, 6.114578\, 14)
SUMMARY:Weekly running: Wednesdays at 7pm in Bambësch: 14/6/2017
URL:https://orienteering.lu/en/calendar/events/weekly-running-wednesdays-at
 -7pm-in-bambesch-31-5-2017-1/
END:VEVENT
END:VCALENDAR
