BEGIN:VCALENDAR
VERSION:2.0
PRODID:-//orienteering.lu//NONSGML kigkonsult.se iCalcreator 2.10.5//
METHOD:PUBLISH
X-WR-CALDESC:<p>Let's meet every Wednesday until Summer holidays July 15th 
 and have a run together. We will run easy and if needed can do several gro
 ups\, depending on the speed. We might do some running exercises together 
 as well\, depending on the mood.</p>\n\n<p>Misa</p>
X-WR-TIMEZONE:Europe/Luxembourg
BEGIN:VEVENT
UID:20180701T084921CEST-396589jWU8@orienteering.lu
DTSTAMP:20180701T060721Z
CREATED:20170619T111536Z
DESCRIPTION:Let's meet every Wednesday until Summer holidays July 15th and 
 have a run together. We will run easy and if needed can do several groups\
 , depending on the speed. We might do some running exercises together as w
 ell\, depending on the mood.\n\nMisa
DTSTART:20170621T190000
DTEND:20170621T200000
LAST-MODIFIED:20170619T111726Z
LOCATION:Allée des Présidents\, Mühlenbach\, Luxembourg\, Kanton Luxemburg\
 , 2241\, Luxembourg (49.632561\, 6.114042\, 16)
SUMMARY:Weekly running: Wednesdays at 7pm in Bambësch: 21/6/2017
URL:https://orienteering.lu/en/calendar/events/weekly-running-wednesdays-at
 -7pm-in-bambesch-21-6-2017/
END:VEVENT
END:VCALENDAR
