BEGIN:VCALENDAR
VERSION:2.0
PRODID:-//orienteering.lu//NONSGML kigkonsult.se iCalcreator 2.10.5//
METHOD:PUBLISH
X-WR-CALDESC:<p><strong>On July 5th exceptionnely in Walfer.</strong></p>
 <p>Let's meet every Wednesday until Summer holidays July 5th and have a ru
 n together. We will run easy and if needed can do several groups\, dependi
 ng on the speed. We might do some running exercises together as well\, dep
 ending on the mood.</p>\n\n<p>Misa</p>
X-WR-TIMEZONE:Europe/Luxembourg
BEGIN:VEVENT
UID:20180701T084816CEST-0261X1icBo@orienteering.lu
DTSTAMP:20180701T060716Z
CREATED:20170626T122240Z
DESCRIPTION:On July 5th exceptionnely in Walfer.\n\nLet's meet every Wednes
 day until Summer holidays July 5th and have a run together. We will run ea
 sy and if needed can do several groups\, depending on the speed. We might 
 do some running exercises together as well\, depending on the mood.\n\nMis
 a
DTSTART:20170705T190000
DTEND:20170705T200000
LAST-MODIFIED:20170706T135958Z
LOCATION:Allée des Présidents\, Mühlenbach\, Muhlenbach\, Luxembourg\, Cant
 on Luxembourg\, 2241\, Luxembourg (49.632755\, 6.114450\, 16)
SUMMARY:[change] Weekly running: Wednesdays at 7pm in ... Walferdange 5/7/2
 017
URL:https://orienteering.lu/en/calendar/events/weekly-running-wednesdays-at
 -7pm-in-bambesch-5-7-2017/
END:VEVENT
END:VCALENDAR
