BEGIN:VCALENDAR
VERSION:2.0
PRODID:-//orienteering.lu//NONSGML kigkonsult.se iCalcreator 2.10.5//
METHOD:PUBLISH
X-WR-CALDESC:
X-WR-TIMEZONE:Europe/Luxembourg
BEGIN:VEVENT
UID:20180701T084800CEST-9834pFcgDk@orienteering.lu
DTSTAMP:20180701T060700Z
CREATED:20170728T232403Z
DESCRIPTION:
DTSTART;VALUE=DATE:20170827
LAST-MODIFIED:20170728T234004Z
LOCATION:Recht\, Verviers\, Lutych\, Wallonia\, Belgie (50.334927\, 6.04313
 0\, 9)
SUMMARY:Championnat de Belgique Interclubs 2017
URL:https://orienteering.lu/en/calendar/events/championnat-de-belgique-inte
 rclubs-2017/
END:VEVENT
END:VCALENDAR
