BEGIN:VCALENDAR
VERSION:2.0
PRODID:-//orienteering.lu//NONSGML kigkonsult.se iCalcreator 2.10.5//
METHOD:PUBLISH
X-WR-CALDESC:<p>From 9:30 to 12\, meeting at Fameck's city hall (GPS : 49\,
 304421° N – 6\,102554° E)<br />\n2\, 5 and 8km routes<br />\nOn-site regis
 tration: 2€/person\, 5€/family<br />\nFlyer: http://www.orientation-fameck
 .fr/wp-content/uploads/2017/07/RANDO-FENSCH-2017.pdf</p>
X-WR-TIMEZONE:Europe/Luxembourg
BEGIN:VEVENT
UID:20180701T084755CEST-2226trUTEE@orienteering.lu
DTSTAMP:20180701T060755Z
CREATED:20170821T224552Z
DESCRIPTION:From 9:30 to 12\, meeting at Fameck's city hall (GPS : 49\,3044
 21° N – 6\,102554° E)\n\n2\, 5 and 8km routes\n\nOn-site registration: 2€/
 person\, 5€/family\n\nFlyer: http://www.orientation-fameck.fr/wp-content/u
 ploads/2017/07/RANDO-FENSCH-2017.pdf
DTSTART;VALUE=DATE:20170910
LAST-MODIFIED:20170821T224757Z
LOCATION:Rue Denis Diderot\, Fameck\, Thionville\, Moselle\, Grand-Est\, Fr
 ance métropolitaine\, 57290\, France (49.304405\, 6.102583\, 16)
SUMMARY:6th Rand’O Fensch
URL:https://orienteering.lu/en/calendar/events/6th-rando-fensch/
END:VEVENT
END:VCALENDAR
