BEGIN:VCALENDAR
VERSION:2.0
PRODID:-//orienteering.lu//NONSGML kigkonsult.se iCalcreator 2.10.5//
METHOD:PUBLISH
X-WR-CALDESC:<p>See more detail on flyer: http://www.grand-est.ffcorientati
 on.fr/media/invitations/annonce__D%C3%A9partementale_54_SOL_10_09_2017.pdf
 <br />\nFrom 9:00\, follow the road indications from highway exit 'Bénamén
 il Est'<br />\nFrom 2 to 6km routes.<br />\nRegistration before 8th septem
 ber to bernard.lemercier@wanadoo.fr</p>
X-WR-TIMEZONE:Europe/Luxembourg
BEGIN:VEVENT
UID:20180701T084737CEST-3519Hx1kPh@orienteering.lu
DTSTAMP:20180701T060737Z
CREATED:20170821T224820Z
DESCRIPTION:See more detail on flyer: http://www.grand-est.ffcorientation.f
 r/media/invitations/annonce__D%C3%A9partementale_54_SOL_10_09_2017.pdf\n
 From 9:00\, follow the road indications from highway exit 'Bénaménil Est'
 \nFrom 2 to 6km routes.\n\nRegistration before 8th september to bernard.le
 mercier@wanadoo.fr
DTSTART;VALUE=DATE:20170910
LAST-MODIFIED:20170821T224932Z
LOCATION:Route de Strasbourg\, Bénaménil\, Lunéville\, Meurthe-et-Moselle\,
  Grand-Est\, France métropolitaine\, 54450\, France (48.563259\, 6.684322\
 , 14)
SUMMARY:Long distance race\, Lunéville
URL:https://orienteering.lu/en/calendar/events/long-distance-race-luneville
 /
END:VEVENT
END:VCALENDAR
