BEGIN:VCALENDAR
VERSION:2.0
PRODID:-//orienteering.lu//NONSGML kigkonsult.se iCalcreator 2.10.5//
METHOD:PUBLISH
X-WR-CALDESC:
X-WR-TIMEZONE:Europe/Luxembourg
BEGIN:VEVENT
UID:20180701T084743CEST-7482euklCX@orienteering.lu
DTSTAMP:20180701T060743Z
CREATED:20170821T224946Z
DESCRIPTION:
DTSTART;VALUE=DATE:20170910
LAST-MODIFIED:20170821T225052Z
LOCATION:Contrexéville\, Neufchâteau\, Vosges\, Grand-Est\, France métropol
 itaine\, 88140\, France (48.180496\, 5.894628\, 9)
SUMMARY:Vosges middle distance championship\, Contrexeville (FR)
URL:https://orienteering.lu/en/calendar/events/vosges-middle-distance-champ
 ionship-contrexeville-fr/
END:VEVENT
END:VCALENDAR
