BEGIN:VCALENDAR
VERSION:2.0
PRODID:-//orienteering.lu//NONSGML kigkonsult.se iCalcreator 2.10.5//
METHOD:PUBLISH
X-WR-CALDESC:<p>See:</p>\n\n<p>http://www.ol-im-saarland.de/fileadmin/wettk
 ampf/2017/SLC_Kirrberg_10_September_2017.pdf<br />\nhttp://www.orientierun
 gslauf.de/3/1/1/5588<br />\nhttps://omanager.orientierungslauf.de/service/
 f?p=105:7:::NO::P7_ID:3562</p>
X-WR-TIMEZONE:Europe/Luxembourg
BEGIN:VEVENT
UID:20180701T084749CEST-3256vDfmGV@orienteering.lu
DTSTAMP:20180701T060749Z
CREATED:20170821T225117Z
DESCRIPTION:See:\n\nhttp://www.ol-im-saarland.de/fileadmin/wettkampf/2017/S
 LC_Kirrberg_10_September_2017.pdf\n\nhttp://www.orientierungslauf.de/3/1/1
 /5588\n\nhttps://omanager.orientierungslauf.de/service/f?p=105:7:::NO::P7_
 ID:3562
DTSTART;VALUE=DATE:20170910
LAST-MODIFIED:20170821T225233Z
LOCATION:Kirrberg\, Hombourg\, Saarpfalz-Kreis\, Sarre\, Allemagne (49.2996
 64\, 7.364788\, 13)
SUMMARY:5th Lauf zum SaarlandCup 2017\, Homburg
URL:https://orienteering.lu/en/calendar/events/5th-lauf-zum-saarlandcup-201
 7-homburg/
END:VEVENT
END:VCALENDAR
