BEGIN:VCALENDAR
VERSION:2.0
PRODID:-//orienteering.lu//NONSGML kigkonsult.se iCalcreator 2.10.5//
METHOD:PUBLISH
X-WR-CALDESC:<p>A number of events during the day around Suxy and Chiny:</p
 >\n\n<ul><li>Training on Saturday morning : <a href='http://www.frso.be/co
 urse.php?id=2106' target='_blank' title='http://www.frso.be/course.php?id=
 2106' rel='noreferrer noopener'>http://www.frso.be/course.php?id=2106</a> 
 and <a href='http://www.frso.be/course.php?id=1987' target='_blank' title=
 'http://www.frso.be/course.php?id=1987' rel='noreferrer noopener'>http://w
 ww.frso.be/course.php?id=1987</a></li>\n	<li>Middle distance\, saturday af
 ternoon : <a href='http://www.frso.be/course.php?id=2107' target='_blank' 
 title='http://www.frso.be/course.php?id=2107' rel='noreferrer noopener'>ht
 tp://www.frso.be/course.php?id=2107</a></li>\n	<li>Sprint relay\, saturday
  afternoon (late) : <a href='http://www.frso.be/course.php?id=2108' target
 ='_blank' title='http://www.frso.be/course.php?id=2108' rel='noreferrer no
 opener'>http://www.frso.be/course.php?id=2108</a></li>\n</ul>
X-WR-TIMEZONE:Europe/Luxembourg
BEGIN:VEVENT
UID:20180701T084716CEST-7413jvF1Zk@orienteering.lu
DTSTAMP:20180701T060716Z
CREATED:20170821T225250Z
DESCRIPTION:A number of events during the day around Suxy and Chiny:\n\nTra
 ining on Saturday morning : http://www.frso.be/course.php?id=2106 and http
 ://www.frso.be/course.php?id=1987\n	Middle distance\, saturday afternoon :
  http://www.frso.be/course.php?id=2107\n	Sprint relay\, saturday afternoon
  (late) : http://www.frso.be/course.php?id=2108
DTSTART;VALUE=DATE:20170916
LAST-MODIFIED:20170904T210652Z
LOCATION:Suxy\, Virton\, Luxembourg\, Wallonie\, Belgique (49.762688\, 5.40
 0556\, 11)
SUMMARY:Regional race\, Suxy
URL:https://orienteering.lu/en/calendar/events/regional-race-suxy/
END:VEVENT
END:VCALENDAR
