BEGIN:VCALENDAR
VERSION:2.0
PRODID:-//orienteering.lu//NONSGML kigkonsult.se iCalcreator 2.10.5//
METHOD:PUBLISH
X-WR-CALDESC:<p>On-site registration\, from 6:00 !<br />\n4\, 7 and 11km ro
 utes.</p>
X-WR-TIMEZONE:Europe/Luxembourg
BEGIN:VEVENT
UID:20180701T084658CEST-0138opUvCF@orienteering.lu
DTSTAMP:20180701T060758Z
CREATED:20170821T225512Z
DESCRIPTION:On-site registration\, from 6:00 !\n\n4\, 7 and 11km routes.
DTSTART;VALUE=DATE:20170917
LAST-MODIFIED:20170821T225614Z
LOCATION:Suxy\, Virton\, Luxembourg\, Wallonie\, Belgique (49.762688\, 5.40
 0556\, 13)
SUMMARY:Challenge Moise 2017
URL:https://orienteering.lu/en/calendar/events/challenge-moise-2017/
END:VEVENT
END:VCALENDAR
