BEGIN:VCALENDAR
VERSION:2.0
PRODID:-//orienteering.lu//NONSGML kigkonsult.se iCalcreator 2.10.5//
METHOD:PUBLISH
X-WR-CALDESC:
X-WR-TIMEZONE:Europe/Luxembourg
BEGIN:VEVENT
UID:20180701T084606CEST-4366XuJm9N@orienteering.lu
DTSTAMP:20180701T060706Z
CREATED:20170821T231126Z
DESCRIPTION:
DTSTART;VALUE=DATE:20171015
LAST-MODIFIED:20170821T231248Z
LOCATION:Lotissement Émile André\, Heillecourt\, Nancy\, Meurthe-et-Moselle
 \, Grand-Est\, France métropolitaine\, 54180\, France (48.658485\, 6.16848
 0\, 12)
SUMMARY:Regional sprint race\, Vandoeuvre
URL:https://orienteering.lu/en/calendar/events/regional-sprint-race-vandoeu
 vre/
END:VEVENT
END:VCALENDAR
