BEGIN:VCALENDAR
VERSION:2.0
PRODID:-//orienteering.lu//NONSGML kigkonsult.se iCalcreator 2.10.5//
METHOD:PUBLISH
X-WR-CALDESC:<ul><li>Location: WKZ-Fachhochschule Trier\, Turnhalle</li>\n	
 <li>Time: Start from 14:00</li>\n</ul><p>Our very first Club Championships
 ! Trier OL Klub have very kindly offered to allow us to be part of their e
 vent\, which is also the championship race for the two Lander of Rheinland
 -Pfalz and Saarland. We should all compete on one of two courses – a ~5km 
 course for all adults\, and a short\, easy ~1.5km course for children unde
 r 13.</p>\n\n<p>Although the event offers the usual range of classes\, the
  idea is that Luxembourg OC will all compete against each other on the sam
 e course\, as we don’t have enough Luxembourg orienteers to make a champio
 nship by class a worthwhile option. But we will try to design a handicap f
 ormula\, so we will end up with a mens’ champion\, a womens’ champion\, a 
 boys’ champion\, a girls’s champion – and a handicap champion – so we all 
 have a chance of winning! All members are very welcome to participate – yo
 u don’t have to be an aspiring champion – it will be a good course in a ni
 ce forest.</p>\n\n<p>Please “pre-enter” before Sunday 15 October\, simply 
 by sending an email to <strong>j.pfannkuchen@trimmelter-sv.de</strong>\, c
 onfirming your family name\, given name\, club (LuxOC)\, normal orienteeri
 ng class (e.g. D21\, H40 etc.)\, and number of your own SI “chip” (or say 
 “to hire”). Please also say whether you want to do the “Luxembourg Champio
 nships” course or the “Luxembourg Childrens’ Championship” course. You wil
 l need to pay the entry fee on the day – EUR 6.00 for over 18’s\, EUR 4.00
  for children\, plus EUR 2.00 to hire an SI “chip”.</p>\n\n<p>Some informa
 tion also on: <a href='https://omanager.orientierungslauf.de/service/f?p=1
 05:7:::NO::P7_ID:3881'>https://omanager.orientierungslauf.de/service/f?p=1
 05:7:::NO::P7_ID:3881</a></p>
X-WR-TIMEZONE:Europe/Luxembourg
BEGIN:VEVENT
UID:20180701T083506CEST-18357DS0AE@orienteering.lu
DTSTAMP:20180701T060706Z
CREATED:20170821T231300Z
DESCRIPTION:Location: WKZ-Fachhochschule Trier\, Turnhalle\n	Time: Start fr
 om 14:00\nOur very first Club Championships! Trier OL Klub have very kindl
 y offered to allow us to be part of their event\, which is also the champi
 onship race for the two Lander of Rheinland-Pfalz and Saarland. We should 
 all compete on one of two courses – a ~5km course for all adults\, and a s
 hort\, easy ~1.5km course for children under 13.\n\nAlthough the event off
 ers the usual range of classes\, the idea is that Luxembourg OC will all c
 ompete against each other on the same course\, as we don’t have enough Lux
 embourg orienteers to make a championship by class a worthwhile option. Bu
 t we will try to design a handicap formula\, so we will end up with a mens
 ’ champion\, a womens’ champion\, a boys’ champion\, a girls’s champion – 
 and a handicap champion – so we all have a chance of winning! All members 
 are very welcome to participate – you don’t have to be an aspiring champio
 n – it will be a good course in a nice forest.\n\nPlease “pre-enter” befor
 e Sunday 15 October\, simply by sending an email to j.pfannkuchen@trimmelt
 er-sv.de\, confirming your family name\, given name\, club (LuxOC)\, norma
 l orienteering class (e.g. D21\, H40 etc.)\, and number of your own SI “ch
 ip” (or say “to hire”). Please also say whether you want to do the “Luxemb
 ourg Championships” course or the “Luxembourg Childrens’ Championship” cou
 rse. You will need to pay the entry fee on the day – EUR 6.00 for over 18’
 s\, EUR 4.00 for children\, plus EUR 2.00 to hire an SI “chip”.\n\nSome in
 formation also on: https://omanager.orientierungslauf.de/service/f?p=105:7
 :::NO::P7_ID:3881
DTSTART:20171021T140000
DTEND:20171021T160000
LAST-MODIFIED:20180319T195622Z
LOCATION:Pallien\, West-Pallien\, Trevír\, Porýní-Falc\, Německo (49.767769
 \, 6.626987\, 15)
SUMMARY:Luxembourg championship - Saarlandmeisterschaft
URL:https://orienteering.lu/en/calendar/events/6th-lauf-zum-saarlandcup-saa
 rlandmeisterschaft/
END:VEVENT
END:VCALENDAR
