BEGIN:VCALENDAR
VERSION:2.0
PRODID:-//orienteering.lu//NONSGML kigkonsult.se iCalcreator 2.10.5//
METHOD:PUBLISH
X-WR-CALDESC:<p>21/10/17 Sprint in Epernay<br />\n21/10/17 Night race in Ve
 rzy<br />\n22/10/17 Long distance in Montagne de Reims</p>
X-WR-TIMEZONE:Europe/Luxembourg
BEGIN:VEVENT
UID:20180701T084544CEST-3475EZk8n2@orienteering.lu
DTSTAMP:20180701T060744Z
CREATED:20170821T231754Z
DESCRIPTION:21/10/17 Sprint in Epernay\n\n21/10/17 Night race in Verzy\n\n2
 2/10/17 Long distance in Montagne de Reims
DTSTART;VALUE=DATE:20171021
DTEND;VALUE=DATE:20171022
LAST-MODIFIED:20171017T232404Z
LOCATION:Épernay\, Marne\, Grand-Est\, France métropolitaine\, 51200\, Fran
 ce (49.043617\, 3.955159\, 11)
SUMMARY:Week-end in Champagne 2017
URL:https://orienteering.lu/en/calendar/events/week-end-in-champagne-2017/
END:VEVENT
END:VCALENDAR
