BEGIN:VCALENDAR
VERSION:2.0
PRODID:-//orienteering.lu//NONSGML kigkonsult.se iCalcreator 2.10.5//
METHOD:PUBLISH
X-WR-CALDESC:<ul><li>11 novembre 2017 in Uccle - See http://frso.be/course.
 php?id=1993</li>\n	<li>12 novembre 2017 in La Hulpe - See http://frso.be/c
 ourse.php?id=2115</li>\n	<li>19 novembre 2017 in Linkebeek - See http://fr
 so.be/course.php?id=2030<br />\n	 </li>\n</ul>
X-WR-TIMEZONE:Europe/Luxembourg
BEGIN:VEVENT
UID:20180701T084508CEST-1730kraVVx@orienteering.lu
DTSTAMP:20180701T060708Z
CREATED:20170821T232045Z
DESCRIPTION:11 novembre 2017 in Uccle - See http://frso.be/course.php?id=19
 93\n	12 novembre 2017 in La Hulpe - See http://frso.be/course.php?id=2115
 	19 novembre 2017 in Linkebeek - See http://frso.be/course.php?id=2030\n
 	 
DTSTART;VALUE=DATE:20171111
DTEND;VALUE=DATE:20171119
LAST-MODIFIED:20170821T232253Z
LOCATION:Hoeilaart\, Hal-Vilvorde\, Brabant flamand\, Flandre\, Belgique (5
 0.769905\, 4.420624\, 11)
SUMMARY:3 days of Forêt de Soignes 2017\, Brussels
URL:https://orienteering.lu/en/calendar/events/3-days-of-foret-de-soignes-2
 017-brussels/
END:VEVENT
END:VCALENDAR
