BEGIN:VCALENDAR
VERSION:2.0
PRODID:-//orienteering.lu//NONSGML kigkonsult.se iCalcreator 2.10.5//
METHOD:PUBLISH
X-WR-CALDESC:
X-WR-TIMEZONE:Europe/Luxembourg
BEGIN:VEVENT
UID:20180701T084352CEST-9504NW3cAX@orienteering.lu
DTSTAMP:20180701T060752Z
CREATED:20170821T232322Z
DESCRIPTION:
DTSTART;VALUE=DATE:20171202
LAST-MODIFIED:20170821T232457Z
LOCATION:Charleville-Mézières\, Ardennes\, Grand-Est\, France métropolitain
 e\, 08000\, France (49.759979\, 4.718628\, 10)
SUMMARY:Orienteering race TASO6\, Charleville
URL:https://orienteering.lu/en/calendar/events/orienteering-race-taso6-char
 leville/
END:VEVENT
END:VCALENDAR
