BEGIN:VCALENDAR
VERSION:2.0
PRODID:-//orienteering.lu//NONSGML kigkonsult.se iCalcreator 2.10.5//
METHOD:PUBLISH
X-WR-CALDESC:<p>See also: https://omanager.orientierungslauf.de/service/f?p
 =105:7:::NO::P7_ID:3541</p>
X-WR-TIMEZONE:Europe/Luxembourg
BEGIN:VEVENT
UID:20180701T084358CEST-6283XraGH7@orienteering.lu
DTSTAMP:20180701T060758Z
CREATED:20170821T232528Z
DESCRIPTION:See also: https://omanager.orientierungslauf.de/service/f?p=105
 :7:::NO::P7_ID:3541
DTSTART;VALUE=DATE:20171202
LAST-MODIFIED:20170821T232644Z
LOCATION:Bexbach\, Saarpfalz-Kreis\, Sarre\, Allemagne (49.347298\, 7.25489
 5\, 12)
SUMMARY:Nikolaus-OL - night race
URL:https://orienteering.lu/en/calendar/events/nikolaus-ol-night-race/
END:VEVENT
END:VCALENDAR
