BEGIN:VCALENDAR
VERSION:2.0
PRODID:-//orienteering.lu//NONSGML kigkonsult.se iCalcreator 2.10.5//
METHOD:PUBLISH
X-WR-CALDESC:
X-WR-TIMEZONE:Europe/Luxembourg
BEGIN:VEVENT
UID:20180701T084340CEST-4729z8UkBm@orienteering.lu
DTSTAMP:20180701T060740Z
CREATED:20170821T232709Z
DESCRIPTION:
DTSTART;VALUE=DATE:20171203
LAST-MODIFIED:20170821T232806Z
LOCATION:LLN\, Ottignies-Louvain-la-Neuve\, Nivelles\, Brabant wallon\, Wal
 lonie\, 1348\, Belgique (50.669701\, 4.615974\, 13)
SUMMARY:Regional race\, Louvain la Neuve
URL:https://orienteering.lu/en/calendar/events/regional-race-louvain-la-neu
 ve/
END:VEVENT
END:VCALENDAR
