BEGIN:VCALENDAR
VERSION:2.0
PRODID:-//orienteering.lu//NONSGML kigkonsult.se iCalcreator 2.10.5//
METHOD:PUBLISH
X-WR-CALDESC:<p>Spa La Fraineuse<br />\nChallenge<br />\n </p>
X-WR-TIMEZONE:Europe/Luxembourg
BEGIN:VEVENT
UID:20180701T084327CEST-50868kzGNu@orienteering.lu
DTSTAMP:20180701T060727Z
CREATED:20170821T232920Z
DESCRIPTION:Spa La Fraineuse\n\nChallenge\n\n 
DTSTART;VALUE=DATE:20171210
LAST-MODIFIED:20170821T233057Z
LOCATION:Spa\, Verviers\, Liège\, Wallonie\, 4900\, Belgique (50.492085\, 5
 .862623\, 11)
SUMMARY:Herma O'Relay Fun
URL:https://orienteering.lu/en/calendar/events/herma-orelay-fun/
END:VEVENT
END:VCALENDAR
