BEGIN:VCALENDAR
VERSION:2.0
PRODID:-//orienteering.lu//NONSGML kigkonsult.se iCalcreator 2.10.5//
METHOD:PUBLISH
X-WR-CALDESC:
X-WR-TIMEZONE:Europe/Luxembourg
BEGIN:VEVENT
UID:20180701T084233CEST-5838VIuiuI@orienteering.lu
DTSTAMP:20180701T060733Z
CREATED:20170821T233122Z
DESCRIPTION:
DTSTART;VALUE=DATE:20180121
LAST-MODIFIED:20180102T152649Z
LOCATION:Rodt\, Verviers\, Liège\, Wallonie\, Belgique (50.287075\, 6.07061
 4\, 13)
SUMMARY:Regional race\, Rodt
URL:https://orienteering.lu/en/calendar/events/regional-race-rodt/
END:VEVENT
END:VCALENDAR
