BEGIN:VCALENDAR
VERSION:2.0
PRODID:-//orienteering.lu//NONSGML kigkonsult.se iCalcreator 2.10.5//
METHOD:PUBLISH
X-WR-CALDESC:
X-WR-TIMEZONE:Europe/Luxembourg
BEGIN:VEVENT
UID:20180701T084244CEST-0782AWt7vR@orienteering.lu
DTSTAMP:20180701T060744Z
CREATED:20170821T233253Z
DESCRIPTION:
DTSTART;VALUE=DATE:20180114
LAST-MODIFIED:20180102T152926Z
LOCATION:Havelange\, Dinant\, Namur\, Wallonie\, Belgique (50.387096\, 5.23
 9580\, 11)
SUMMARY:Regional race\, Havelange
URL:https://orienteering.lu/en/calendar/events/regional-race-havelange/
END:VEVENT
END:VCALENDAR
