BEGIN:VCALENDAR
VERSION:2.0
PRODID:-//orienteering.lu//NONSGML kigkonsult.se iCalcreator 2.10.5//
METHOD:PUBLISH
X-WR-CALDESC:<p>http://frso.be/course.php?id=2065</p>\n\n<p>Le Karrim'HOC e
 st un 'raid forestier': une course ou une randonnée d'orientation étalée s
 ur 2 jours.</p>\n\n<p>Le déroulement de l'épreuve reste fidèle à lui-même:
 </p>\n\n<ul><li>Le logement est assuré dans un centre de vacances.</li>\n	
 <li>Cette année\, le repas du samedi soir ainsi que le petit déjeuner sero
 nt fournis par les organisateurs.</li>\n	<li>Les inscrits seront avertis\,
  en temps utile\, du lieu de départ.</li>\n	<li>Comme l'arrivée du deuxièm
 e jour est l’endroit de départ de la veille\, les concurrents y laissent l
 eurs véhicules.</li>\n	<li>Au secrétariat\, chaque équipe recevra une cart
 e IOF sur support indéchirable au 1/15.000ème. Peu après le départ\, une c
 opie par équipe (sur papier normal) de la locali-</li>\n	<li>sation des po
 stes avec leur définition vous sera distribuée.</li>\n	<li>Les coureurs se
 ront classés en fonction du temps ainsi que de l'exactitude des contrôles.
 </li>\n	<li>Le samedi soir\, vous pourrez faire la fête à notre bar garni\
 , comme il se doit\, de bières catholiques et\, à l'issue de la seconde ét
 ape\, vous pourrez vous régaler avec le tradition-nel BBQ Karrim'HOC.</li>
 </ul>
X-WR-TIMEZONE:Europe/Luxembourg
BEGIN:VEVENT
UID:20180701T084222CEST-0406hxl1vi@orienteering.lu
DTSTAMP:20180701T060722Z
CREATED:20170821T233403Z
DESCRIPTION:http://frso.be/course.php?id=2065\n\nLe Karrim'HOC est un 'raid
  forestier': une course ou une randonnée d'orientation étalée sur 2 jours.
 \nLe déroulement de l'épreuve reste fidèle à lui-même:\n\nLe logement est 
 assuré dans un centre de vacances.\n	Cette année\, le repas du samedi soir
  ainsi que le petit déjeuner seront fournis par les organisateurs.\n	Les i
 nscrits seront avertis\, en temps utile\, du lieu de départ.\n	Comme l'arr
 ivée du deuxième jour est l’endroit de départ de la veille\, les concurren
 ts y laissent leurs véhicules.\n	Au secrétariat\, chaque équipe recevra un
 e carte IOF sur support indéchirable au 1/15.000ème. Peu après le départ\,
  une copie par équipe (sur papier normal) de la locali-\n	sation des poste
 s avec leur définition vous sera distribuée.\n	Les coureurs seront classés
  en fonction du temps ainsi que de l'exactitude des contrôles.\n	Le samedi
  soir\, vous pourrez faire la fête à notre bar garni\, comme il se doit\, 
 de bières catholiques et\, à l'issue de la seconde étape\, vous pourrez vo
 us régaler avec le tradition-nel BBQ Karrim'HOC.
DTSTART;VALUE=DATE:20180127
DTEND;VALUE=DATE:20180128
LAST-MODIFIED:20180111T100602Z
LOCATION: (0.000000\, 0.000000\, 10)
SUMMARY:Karrim'HOC 2018
URL:https://orienteering.lu/en/calendar/events/karrimhoc-2018/
END:VEVENT
END:VCALENDAR
