BEGIN:VCALENDAR
VERSION:2.0
PRODID:-//orienteering.lu//NONSGML kigkonsult.se iCalcreator 2.10.5//
METHOD:PUBLISH
X-WR-CALDESC:<ul><li>Friday 9\, 20:00 - 22:00: <strong>Urban night sprint <
 /strong>in the ancient town of Ravenstein</li>\n	<li>Saturday 10\, 14:00 -
  17:00: <strong>Middle Distance / training </strong>at Herperduin</li>\n	<
 li>Saturday 10\, 20:00 - 22:00: <strong>forest/park night sprint </strong>
 at Herperduin</li>\n	<li>Sunday 11\, 09:30 - 13:00: <strong>Long Distance 
 / Interland</strong> at Herperduin</li>\n</ul>
X-WR-TIMEZONE:Europe/Luxembourg
BEGIN:VEVENT
UID:20180701T084030CEST-3930XV4vsR@orienteering.lu
DTSTAMP:20180701T060730Z
CREATED:20170821T233518Z
DESCRIPTION:Friday 9\, 20:00 - 22:00: Urban night sprint in the ancient tow
 n of Ravenstein\n	Saturday 10\, 14:00 - 17:00: Middle Distance / training 
 at Herperduin\n	Saturday 10\, 20:00 - 22:00: forest/park night sprint at H
 erperduin\n	Sunday 11\, 09:30 - 13:00: Long Distance / Interland at Herper
 duin
DTSTART;VALUE=DATE:20180310
DTEND;VALUE=DATE:20180311
LAST-MODIFIED:20180113T191951Z
LOCATION:Heide\, Herpen\, Oss\, North Brabant\, Netherlands\, 5351\, The Ne
 therlands (51.767933\, 5.623412\, 9)
SUMMARY:Interland 2018
URL:https://orienteering.lu/en/calendar/events/interland-2018/
END:VEVENT
END:VCALENDAR
