BEGIN:VCALENDAR
VERSION:2.0
PRODID:-//orienteering.lu//NONSGML kigkonsult.se iCalcreator 2.10.5//
METHOD:PUBLISH
X-WR-CALDESC:
X-WR-TIMEZONE:Europe/Luxembourg
BEGIN:VEVENT
UID:20180701T083917CEST-9813hiwUgS@orienteering.lu
DTSTAMP:20180701T060717Z
CREATED:20170821T233712Z
DESCRIPTION:
DTSTART;VALUE=DATE:20180331
DTEND;VALUE=DATE:20180404
LAST-MODIFIED:20170821T233758Z
LOCATION: (0.000000\, 0.000000\, 11)
SUMMARY:Camp O'Ardenne 2018
URL:https://orienteering.lu/en/calendar/events/camp-oardenne-2018/
END:VEVENT
END:VCALENDAR
