BEGIN:VCALENDAR
VERSION:2.0
PRODID:-//orienteering.lu//NONSGML kigkonsult.se iCalcreator 2.10.5//
METHOD:PUBLISH
X-WR-CALDESC:
X-WR-TIMEZONE:Europe/Luxembourg
BEGIN:VEVENT
UID:20180701T084709CEST-1001CbrbV0@orienteering.lu
DTSTAMP:20180701T060709Z
CREATED:20170904T210843Z
DESCRIPTION:
DTSTART;VALUE=DATE:20170917
LAST-MODIFIED:20170904T210932Z
LOCATION:Chiny\, Virton\, Luxembourg\, Wallonie\, 6810\;6811\;6812\;6813\, 
 Belgique (49.739124\, 5.340042\, 11)
SUMMARY:Family orienteering\, Chiny
URL:https://orienteering.lu/en/calendar/events/family-orienteering-chiny/
END:VEVENT
END:VCALENDAR
